BEGIN:VCALENDAR
VERSION:2.0
PRODID:-//Tukios.com/
BEGIN:VEVENT
UID:0660a629-2104-4fc6-a7b1-efcd80eb36e5@www.phillipfuneralhome.com
DTSTAMP:20260420T193723Z
DTSTART:20260424T153000Z
DTEND:20260424T164500Z
SUMMARY:Visitation
DESCRIPTION:
URL:https://www.phillipfuneralhome.com/obituaries/calvin-held
LOCATION:St. John's Lutheran Church 809 S 6th Ave  West Bend WI 53095
GEO:43.4119305;-88.1828693
END:VEVENT
END:VCALENDAR