BEGIN:VCALENDAR
VERSION:2.0
PRODID:-//Tukios.com/
BEGIN:VEVENT
UID:defd2e52-067f-484d-b7f7-ecea7a930b9b@www.phillipfuneralhome.com
DTSTAMP:20260420T193125Z
DTSTART:20260424T170000Z
DTEND:20260424T180000Z
SUMMARY:Funeral Service
DESCRIPTION:
URL:https://www.phillipfuneralhome.com/obituaries/calvin-held
LOCATION:St. John's Lutheran Church 809 S 6th Ave  West Bend WI 53095
GEO:43.4119305;-88.1828693
END:VEVENT
END:VCALENDAR