BEGIN:VCALENDAR
VERSION:2.0
PRODID:-//Tukios.com/
BEGIN:VEVENT
UID:018fcd2a-5301-425b-9a39-e94cbd8416ee@www.phillipfuneralhome.com
DTSTAMP:20260424T230740Z
DTSTART:20260429T190000Z
DTEND:20260429T200000Z
SUMMARY:Celebration of Life
DESCRIPTION:
URL:https://www.phillipfuneralhome.com/obituaries/agnes-legate
LOCATION:Phillip Funeral Home 1420 W Paradise Dr  West Bend WI 53095
GEO:43.3986189;-88.1958186
END:VEVENT
END:VCALENDAR